BEGIN:VCALENDAR
PRODID:Nexudus
VERSION:2.0
BEGIN:VTIMEZONE
TZID:Europe/Paris
X-LIC-LOCATION:Europe/Paris
BEGIN:STANDARD
DTSTART:20241027T030000
RRULE:FREQ=YEARLY;BYDAY=-1SU;BYMONTH=10
TZNAME:CET
TZOFFSETFROM:+0200
TZOFFSETTO:+0100
END:STANDARD
BEGIN:DAYLIGHT
DTSTART:20250330T020000
RRULE:FREQ=YEARLY;BYDAY=-1SU;BYMONTH=3
TZNAME:CEST
TZOFFSETFROM:+0100
TZOFFSETTO:+0200
END:DAYLIGHT
END:VTIMEZONE
BEGIN:VEVENT
DESCRIPTION:Adaptación del clásico “Los Tres Cerditos”\, dentro de la
  serie “Los cuentos del Conejo Blanco” producidos por esta Compañía.
 \nEvent link: https://teatroavanti.spaces.nexudus.com/en/events/view/14150
 84507/los-tres-cerditos---jabetín-teatro---domingo-9-octubre--12-00-h-y-1
 8-00-h--público-familiar\n
DTEND;TZID=Europe/Paris:20221009T190000
DTSTAMP:20260421T154719Z
DTSTART;TZID=Europe/Paris:20221009T120000
LOCATION:Teatro Avanti
SEQUENCE:0
SUMMARY:LOS TRES CERDITOS - Jabetín Teatro - Domingo 9 Octubre (12:00 h y 
 18:00 h) Público Familiar
UID:09fb791d-c464-46d1-844e-6543039f186c
END:VEVENT
END:VCALENDAR
