BEGIN:VCALENDAR
PRODID:Nexudus
VERSION:2.0
BEGIN:VTIMEZONE
TZID:Europe/Paris
X-LIC-LOCATION:Europe/Paris
BEGIN:STANDARD
DTSTART:20241027T030000
RRULE:FREQ=YEARLY;BYDAY=-1SU;BYMONTH=10
TZNAME:CET
TZOFFSETFROM:+0200
TZOFFSETTO:+0100
END:STANDARD
BEGIN:DAYLIGHT
DTSTART:20250330T020000
RRULE:FREQ=YEARLY;BYDAY=-1SU;BYMONTH=3
TZNAME:CEST
TZOFFSETFROM:+0100
TZOFFSETTO:+0200
END:DAYLIGHT
END:VTIMEZONE
BEGIN:VEVENT
DESCRIPTION:Comedia documental que pretende informar divirtiendo sobre el t
 eatro del Siglo de Oro y el Arte nuevo de hacer comedias propuesto por Lop
 e. Mediante la representación de dos versiones abreviadas de El mejor alc
 alde\, el rey de Lope de Vega y La vida es sueño de Calderón\, abordamos
  las características esenciales del teatro de este periodo a la vez que h
 acemos patente el rico contraste entre el teatro vitalista de Lope y la pa
 sión intelectual de Calderón\nPrecio en taquilla: anticipada 8€ día e
 spectáculo 10€\nEvent link: https://teatroavanti.spaces.nexudus.com/en/
 events/view/657995486/lope-que-te-parió---cía---malaje-solo--sevilla---v
 iernes-21-y-sábado-22---septiembre--21-00-h-\n
DTEND;TZID=Europe/Paris:20180922T230000
DTSTAMP:20260422T182713Z
DTSTART;TZID=Europe/Paris:20180921T210000
LOCATION:Teatro Avanti
SEQUENCE:0
SUMMARY:LOPE QUE TE PARIÓ - Cía.: Malaje Solo (Sevilla)  Viernes 21 y Sá
 bado 22 - Septiembre (21:00 h) 
UID:567087ae-7b57-44c7-96da-7a1ac5a29c4d
END:VEVENT
END:VCALENDAR
