BEGIN:VCALENDAR
PRODID:Nexudus
VERSION:2.0
BEGIN:VTIMEZONE
TZID:Europe/Paris
X-LIC-LOCATION:Europe/Paris
BEGIN:STANDARD
DTSTART:20241027T030000
RRULE:FREQ=YEARLY;BYDAY=-1SU;BYMONTH=10
TZNAME:CET
TZOFFSETFROM:+0200
TZOFFSETTO:+0100
END:STANDARD
BEGIN:DAYLIGHT
DTSTART:20250330T020000
RRULE:FREQ=YEARLY;BYDAY=-1SU;BYMONTH=3
TZNAME:CEST
TZOFFSETFROM:+0100
TZOFFSETTO:+0200
END:DAYLIGHT
END:VTIMEZONE
BEGIN:VEVENT
DESCRIPTION:Lola es una niña extranjera que acaba de llegar a la ciudad y 
 sus nuevos compañeros\nde clase al verla diferente se ríen y se burlan d
 e ella. Por eso Lola se esconde\nen su mundo solitario\, como si se refugi
 ara en una caracola...Un día\, cansada\nde sentirse rara\, se puso frente
  al espejo y deseó con todas sus fuerzas ser otra\npersona\, ser como los
  demás. Entonces algo mágico sucedió: el espejo le abrió\nla puerta a:
  “El otro lado”\, donde todo es posible y donde aparecen personajes\nd
 iversos que le enseñarán que ser diferente no es algo malo\, solo es ser
  original.\nEvent link: https://teatroavanti.spaces.nexudus.com/en/events/
 view/784755973/lola-caracola---al-alba-teatro---domingo-3-de-febrero--18-0
 0-h-\n
DTEND;TZID=Europe/Paris:20190203T190000
DTSTAMP:20260422T134105Z
DTSTART;TZID=Europe/Paris:20190203T180000
LOCATION:Teatro Avanti
SEQUENCE:0
SUMMARY:Lola Caracola - Al Alba Teatro - Domingo 3 de Febrero (18:00 h)
UID:79835d1e-e231-4164-b467-fef55af49682
END:VEVENT
END:VCALENDAR
