BEGIN:VCALENDAR
PRODID:Nexudus
VERSION:2.0
BEGIN:VTIMEZONE
TZID:Europe/Paris
X-LIC-LOCATION:Europe/Paris
BEGIN:STANDARD
DTSTART:20241027T030000
RRULE:FREQ=YEARLY;BYDAY=-1SU;BYMONTH=10
TZNAME:CET
TZOFFSETFROM:+0200
TZOFFSETTO:+0100
END:STANDARD
BEGIN:DAYLIGHT
DTSTART:20250330T020000
RRULE:FREQ=YEARLY;BYDAY=-1SU;BYMONTH=3
TZNAME:CEST
TZOFFSETFROM:+0100
TZOFFSETTO:+0200
END:DAYLIGHT
END:VTIMEZONE
BEGIN:VEVENT
DESCRIPTION:Es una obra que mira a la persona sea “niño” o “adulto
 ” y a través de\nla figura de un gran héroe\, que representa también 
 la vida cotidiana\, los\nsentimientos\, y las emociones que todos vivimos.
 \nLos momentos fundamentales de la épica de la obra de Homero\, son fielm
 ente\nexpresadas con diferentes lenguajes teatrales\, como etapas de la\nv
 ida.\nEvent link: https://teatroavanti.spaces.nexudus.com/en/events/view/2
 58214978/las-maravillosas-aventuras-de-ulises---domingo-11-diciembre--18-0
 0-horas--público-familiar\n
DTEND;TZID=Europe/Paris:20161211T190000
DTSTAMP:20260423T044517Z
DTSTART;TZID=Europe/Paris:20161211T180000
LOCATION:TEATRO AVANTI
SEQUENCE:0
SUMMARY:Las maravillosas aventuras de Ulises - Domingo 11 Diciembre (18:00 
 horas) Público Familiar
UID:dde020ad-3a4d-4ef0-b649-fb1c6994c9aa
END:VEVENT
END:VCALENDAR
