BEGIN:VCALENDAR
PRODID:Nexudus
VERSION:2.0
BEGIN:VTIMEZONE
TZID:Europe/Paris
X-LIC-LOCATION:Europe/Paris
BEGIN:STANDARD
DTSTART:20241027T030000
RRULE:FREQ=YEARLY;BYDAY=-1SU;BYMONTH=10
TZNAME:CET
TZOFFSETFROM:+0200
TZOFFSETTO:+0100
END:STANDARD
BEGIN:DAYLIGHT
DTSTART:20250330T020000
RRULE:FREQ=YEARLY;BYDAY=-1SU;BYMONTH=3
TZNAME:CEST
TZOFFSETFROM:+0100
TZOFFSETTO:+0200
END:DAYLIGHT
END:VTIMEZONE
BEGIN:VEVENT
DESCRIPTION:La muerte de su padre obliga a David a hacerse cargo de su lega
 do. Entre sus pertenencias encuentra algo inesperado: las cartas de amor d
 e otro hombre. Desconcertado por el descubrimiento\, decide visitar al sup
 uesto amante de su progenitor\, Juan y descubrir la verdad.\nEvent link: h
 ttps://teatroavanti.spaces.nexudus.com/en/events/view/811764967/las-herida
 s-del-viento---cía--aqui-y-ahora-teatro---domingo-17-marzo---20-00-horas-
 \n
DTEND;TZID=Europe/Paris:20190317T230000
DTSTAMP:20260422T134119Z
DTSTART;TZID=Europe/Paris:20190317T210000
LOCATION:Teatro Avanti
SEQUENCE:0
SUMMARY:LAS HERIDAS DEL VIENTO - Cía: Aqui y ahora teatro - Domingo 17 Mar
 zo - 20:00 horas.
UID:cca17a70-a64d-41a4-bc5a-672d80f9b616
END:VEVENT
END:VCALENDAR
