BEGIN:VCALENDAR
PRODID:Nexudus
VERSION:2.0
BEGIN:VTIMEZONE
TZID:Europe/Paris
X-LIC-LOCATION:Europe/Paris
BEGIN:STANDARD
DTSTART:20241027T030000
RRULE:FREQ=YEARLY;BYDAY=-1SU;BYMONTH=10
TZNAME:CET
TZOFFSETFROM:+0200
TZOFFSETTO:+0100
END:STANDARD
BEGIN:DAYLIGHT
DTSTART:20250330T020000
RRULE:FREQ=YEARLY;BYDAY=-1SU;BYMONTH=3
TZNAME:CEST
TZOFFSETFROM:+0100
TZOFFSETTO:+0200
END:DAYLIGHT
END:VTIMEZONE
BEGIN:VEVENT
DESCRIPTION:Erase una vez\, en un lugar muy\, muy lejano\, vivía un niño 
 llamado Jack\, junto a su madre. En su pueblecito todo el mundo estaba con
 tento\, hasta que alguien robó el motivo de su felicidad: Musa\, el harpa
  mágica. Desde entonces todos estuvieron muy tristes\, hasta los animales
 . Las gallinas no ponían huevos\, las vacas ya no daban leche\, los árbo
 les frutos… y todo el mundo en la ciudad\nempezó a tener hambre.\n\nSta
 rdín Stardán Teatro (Almería)\nEvent link: https://teatroavanti.spaces.
 nexudus.com/en/events/view/237670433/las-habichuelas-mágicas--2-oct--12-0
 0-y-18-00-horas-\n
DTEND;TZID=Europe/Paris:20161002T180000
DTSTAMP:20260423T060906Z
DTSTART;TZID=Europe/Paris:20161002T120000
LOCATION:Teatro Avanti
SEQUENCE:0
SUMMARY:Las Habichuelas Mágicas (2 Oct. 12:00 y 18:00 horas)
UID:b82c8006-70ba-4f42-92a4-8f49a439e422
END:VEVENT
END:VCALENDAR
