BEGIN:VCALENDAR
PRODID:Nexudus
VERSION:2.0
BEGIN:VTIMEZONE
TZID:Europe/Paris
X-LIC-LOCATION:Europe/Paris
BEGIN:STANDARD
DTSTART:20241027T030000
RRULE:FREQ=YEARLY;BYDAY=-1SU;BYMONTH=10
TZNAME:CET
TZOFFSETFROM:+0200
TZOFFSETTO:+0100
END:STANDARD
BEGIN:DAYLIGHT
DTSTART:20250330T020000
RRULE:FREQ=YEARLY;BYDAY=-1SU;BYMONTH=3
TZNAME:CEST
TZOFFSETFROM:+0100
TZOFFSETTO:+0200
END:DAYLIGHT
END:VTIMEZONE
BEGIN:VEVENT
DESCRIPTION:XII FESTIVAL DE CIRCO DE CÓRDOBA\nUna prueba de selección dir
 igida por un feroz programa informático que va\ndando órdenes y cuatro m
 ujeres dispuestas a darlo todo. Nuestras protagonistas\nvan obedeciendo ha
 sta que se enfrentan al programa corporativo para decir\nno\, rompiendo as
 í los estereoptipos establecidos. Deciden unirse e iniciar lo\nque mejor 
 saben hacer\, arte en movimiento a través de diferentes disciplinas\ncirc
 enses. Valentía\, desparpajo\, fuerza\, técnica\, sueños\, humor y much
 o circo se\nunen en este espectáculo arriesgado y único.\nEvent link: ht
 tps://teatroavanti.spaces.nexudus.com/en/events/view/471680212/las-experta
 s--albadulake--cáceres---sábado-25-noviembre--18-00--todos-los-públicos
 \n
DTEND;TZID=Europe/Paris:20171125T190000
DTSTAMP:20260422T200323Z
DTSTART;TZID=Europe/Paris:20171125T180000
LOCATION:Teatro Avanti
SEQUENCE:0
SUMMARY:Las expertas. Albadulake (Cáceres). SÁBADO 25 Noviembre (18:00) T
 odos los públicos
UID:abfdc037-e545-47f7-8ba8-32e06a84b936
END:VEVENT
END:VCALENDAR
