BEGIN:VCALENDAR
PRODID:Nexudus
VERSION:2.0
BEGIN:VTIMEZONE
TZID:Europe/Paris
X-LIC-LOCATION:Europe/Paris
BEGIN:STANDARD
DTSTART:20241027T030000
RRULE:FREQ=YEARLY;BYDAY=-1SU;BYMONTH=10
TZNAME:CET
TZOFFSETFROM:+0200
TZOFFSETTO:+0100
END:STANDARD
BEGIN:DAYLIGHT
DTSTART:20250330T020000
RRULE:FREQ=YEARLY;BYDAY=-1SU;BYMONTH=3
TZNAME:CEST
TZOFFSETFROM:+0100
TZOFFSETTO:+0200
END:DAYLIGHT
END:VTIMEZONE
BEGIN:VEVENT
DESCRIPTION:Las 4 Estaciones: El ambiente natural de cada una de las estaci
 ones del año es\ndescrito por la música e interpretado por la magia y la
  danza. Una sorprendente\ninterpretación de la música a través de flore
 s y animales que aparecen de la\nnada\, unas luces que aparecen de los ins
 trumentos musicales\, unas hojas de\notoño que bailan al ritmo de la mús
 ica\, una bailarina que es atravesada por paraguas\no que desaparece. Este
  espectáculo acerca a Vivaldi y su obra al público\nmás joven y haciend
 o que despierte y sientan el amor por la música.\nEvent link: https://tea
 troavanti.spaces.nexudus.com/en/events/view/518175688/las-cuatro-estacione
 s----domingo-18-marzo--18-00-h--publico-familiar--ultimas-localidades-de-v
 enta-exclusiva-en-taquilla-\n
DTEND;TZID=Europe/Paris:20180318T200000
DTSTAMP:20260422T183105Z
DTSTART;TZID=Europe/Paris:20180318T180000
LOCATION:Teatro Avanti
SEQUENCE:0
SUMMARY:Las Cuatro Estaciones  - Domingo 18 Marzo (18:00 h) Publico Familia
 r. ULTIMAS LOCALIDADES DE VENTA EXCLUSIVA EN TAQUILLA.
UID:664bb6e3-2137-48b9-b7a7-264dfdc6ae71
END:VEVENT
END:VCALENDAR
