BEGIN:VCALENDAR
PRODID:Nexudus
VERSION:2.0
BEGIN:VTIMEZONE
TZID:Europe/Paris
X-LIC-LOCATION:Europe/Paris
BEGIN:STANDARD
DTSTART:20241027T030000
RRULE:FREQ=YEARLY;BYDAY=-1SU;BYMONTH=10
TZNAME:CET
TZOFFSETFROM:+0200
TZOFFSETTO:+0100
END:STANDARD
BEGIN:DAYLIGHT
DTSTART:20250330T020000
RRULE:FREQ=YEARLY;BYDAY=-1SU;BYMONTH=3
TZNAME:CEST
TZOFFSETFROM:+0100
TZOFFSETTO:+0200
END:DAYLIGHT
END:VTIMEZONE
BEGIN:VEVENT
DESCRIPTION:Rapunzel vive junto a su inseparable camaleón en una torre en 
 mitad de algún lugar\; Inseparables\nhasta que al pedir un deseo para no 
 estar tan sola ocasiona mas de un desastre\; A la misma vez el\nsalvador q
 ue lleva buscando a la princesa desaparecida de los reyes\, pasa por allí
  y aunque esta torre\nno es visible a los ojos de los mortales\, todo se d
 ará para que ambos se encuentren e inicien una\naventura con objetivos ca
 si opuestos.\nUna divertida y cómica aventura musical donde Rapunzel debe
 rán salvar a su camaleón y fiel\namigo y “El salvador” continuar bus
 cando a la princesa pérdida ya que es el único soldado que\ncontinúa ha
 ciéndolo.\nUna aventura repleta de valores\, canciones originales y perso
 najes sorprendentes .\nEvent link: https://teatroavanti.spaces.nexudus.com
 /en/events/view/1415020165/las-aventuras-de-rapunzel---la-tomasa-teatro---
 domingo-24-abril--12-00-h--público-familiar\n
DTEND;TZID=Europe/Paris:20220424T130000
DTSTAMP:20260421T172125Z
DTSTART;TZID=Europe/Paris:20220424T120000
LOCATION:Teatro Avanti
SEQUENCE:0
SUMMARY:LAS AVENTURAS DE RAPUNZEL - La Tomasa Teatro - Domingo 24 Abril (12
 :00 h) Público Familiar
UID:9af9419b-8ad0-4f2d-9df7-b58ef29d807e
END:VEVENT
END:VCALENDAR
