BEGIN:VCALENDAR
PRODID:Nexudus
VERSION:2.0
BEGIN:VTIMEZONE
TZID:Europe/Paris
X-LIC-LOCATION:Europe/Paris
BEGIN:STANDARD
DTSTART:20241027T030000
RRULE:FREQ=YEARLY;BYDAY=-1SU;BYMONTH=10
TZNAME:CET
TZOFFSETFROM:+0200
TZOFFSETTO:+0100
END:STANDARD
BEGIN:DAYLIGHT
DTSTART:20250330T020000
RRULE:FREQ=YEARLY;BYDAY=-1SU;BYMONTH=3
TZNAME:CEST
TZOFFSETFROM:+0100
TZOFFSETTO:+0200
END:DAYLIGHT
END:VTIMEZONE
BEGIN:VEVENT
DESCRIPTION:Esphera Teatro narra las aventuras de Caperucita Roja con sus g
 randes amigos\, con canciones\, con la abuelita\, el lobo y grandes juegos
  y sorpresas.\n\nEsphera Teatro (Jaén)\nEvent link: https://teatroavanti.
 spaces.nexudus.com/en/events/view/237670435/las-aventuras-de-caperucita-ro
 ja--9-oct----12-00-y-18-00-horas-\n
DTEND;TZID=Europe/Paris:20161009T180000
DTSTAMP:20260423T061027Z
DTSTART;TZID=Europe/Paris:20161009T120000
LOCATION:Teatro Avanti
SEQUENCE:0
SUMMARY:Las Aventuras de Caperucita Roja (9 Oct. - 12:00 y 18:00 horas)
UID:cb837a82-bec4-41b7-ae9c-e90771104e1b
END:VEVENT
END:VCALENDAR
