BEGIN:VCALENDAR
PRODID:Nexudus
VERSION:2.0
BEGIN:VTIMEZONE
TZID:Europe/Paris
X-LIC-LOCATION:Europe/Paris
BEGIN:STANDARD
DTSTART:20241027T030000
RRULE:FREQ=YEARLY;BYDAY=-1SU;BYMONTH=10
TZNAME:CET
TZOFFSETFROM:+0200
TZOFFSETTO:+0100
END:STANDARD
BEGIN:DAYLIGHT
DTSTART:20250330T020000
RRULE:FREQ=YEARLY;BYDAY=-1SU;BYMONTH=3
TZNAME:CEST
TZOFFSETFROM:+0100
TZOFFSETTO:+0200
END:DAYLIGHT
END:VTIMEZONE
BEGIN:VEVENT
DESCRIPTION:Bibi\,  un personaje del enfermo siglo XXI\, hilarantemente pos
 eída por los espíritus que la habitan\, decide contarnos su propia mirad
 a al mundo.\n\nFamilia\, amantes\, temores y paisajes psicológicos serán
  el hilo conductor de la historia\, llevándonos hacia un viaje interior s
 in retorno a través del dolor y la risa\, dándole la vuelta a la tortill
 a y descubriendo que no hay huevos.\n\nEvent link: https://teatroavanti.sp
 aces.nexudus.com/en/events/view/1414864359/lacura---sábado-20-marzo--19-0
 0-h--público-adulto-\n
DTEND;TZID=Europe/Paris:20210320T210000
DTSTAMP:20260422T024404Z
DTSTART;TZID=Europe/Paris:20210320T190000
LOCATION:Teatro Avanti
SEQUENCE:0
SUMMARY:LACURA - Sábado 20 Marzo (19:00 h) Público Adulto.
UID:f2eadbf3-d848-4654-bbb7-5e208e8dfb11
END:VEVENT
END:VCALENDAR
