BEGIN:VCALENDAR
PRODID:Nexudus
VERSION:2.0
BEGIN:VTIMEZONE
TZID:Europe/Paris
X-LIC-LOCATION:Europe/Paris
BEGIN:STANDARD
DTSTART:20241027T030000
RRULE:FREQ=YEARLY;BYDAY=-1SU;BYMONTH=10
TZNAME:CET
TZOFFSETFROM:+0200
TZOFFSETTO:+0100
END:STANDARD
BEGIN:DAYLIGHT
DTSTART:20250330T020000
RRULE:FREQ=YEARLY;BYDAY=-1SU;BYMONTH=3
TZNAME:CEST
TZOFFSETFROM:+0100
TZOFFSETTO:+0200
END:DAYLIGHT
END:VTIMEZONE
BEGIN:VEVENT
DESCRIPTION:Erase una vez una ratita muy presumida que estaba barriendo la 
 puerta\nde su casita y de repente… se encontró una monedita. Os present
 amos\nnuestra animada versión con actores y muchas canciones\, en la que 
 estarán\nel burro\, el gato\, el ratoncito\, el gallo\, el perro y todos 
 los personajes de\neste popular cuento clásico\, que acompañarán a nues
 tra gran protagonista:\nla ratita presumida.\nEvent link: https://teatroav
 anti.spaces.nexudus.com/en/events/view/448572238/la-ratita-presumida---dom
 ingo-24---septiembre-12-00-y-18-00-h---público-familiar-\n
DTEND;TZID=Europe/Paris:20170924T190000
DTSTAMP:20260422T214108Z
DTSTART;TZID=Europe/Paris:20170924T120000
LOCATION:Teatro Avanti
SEQUENCE:0
SUMMARY:La ratita presumida. (Domingo 24 - Septiembre 12:00 y 18:00 h.) Pú
 blico Familiar.
UID:d3177d3c-1aba-477f-b08c-dcf31d3637f8
END:VEVENT
END:VCALENDAR
