BEGIN:VCALENDAR
PRODID:Nexudus
VERSION:2.0
BEGIN:VTIMEZONE
TZID:Europe/Paris
X-LIC-LOCATION:Europe/Paris
BEGIN:STANDARD
DTSTART:20241027T030000
RRULE:FREQ=YEARLY;BYDAY=-1SU;BYMONTH=10
TZNAME:CET
TZOFFSETFROM:+0200
TZOFFSETTO:+0100
END:STANDARD
BEGIN:DAYLIGHT
DTSTART:20250330T020000
RRULE:FREQ=YEARLY;BYDAY=-1SU;BYMONTH=3
TZNAME:CEST
TZOFFSETFROM:+0100
TZOFFSETTO:+0200
END:DAYLIGHT
END:VTIMEZONE
BEGIN:VEVENT
DESCRIPTION:Os presentamos nuestra animada versión con actores y muchas ca
 nciones\,\nen la que estarán el burro\, el gato\, el ratoncito\, el gallo
 \, el perro y todos\nlos personajes de este popular cuento clásico\, que 
 acompañarán a nuestra\ngran protagonista: la ratita presumida.\nEvent li
 nk: https://teatroavanti.spaces.nexudus.com/en/events/view/518175687/la-ra
 tita-presumida---domingo-11-marzo--12-00-y-18-00-h---publico-familiar--ult
 imas-localidades-de-venta-exclusiva-en-taquilla-\n
DTEND;TZID=Europe/Paris:20180311T200000
DTSTAMP:20260422T183027Z
DTSTART;TZID=Europe/Paris:20180311T120000
LOCATION:Teatro Avanti
SEQUENCE:0
SUMMARY:La Ratita Presumida - Domingo 11 Marzo (12:00 y 18:00 h.) Publico F
 amiliar. ULTIMAS LOCALIDADES DE VENTA EXCLUSIVA EN TAQUILLA.
UID:a42b80d3-d238-4705-bcb9-8a28d448a52f
END:VEVENT
END:VCALENDAR
