BEGIN:VCALENDAR
PRODID:Nexudus
VERSION:2.0
BEGIN:VTIMEZONE
TZID:Europe/Paris
X-LIC-LOCATION:Europe/Paris
BEGIN:STANDARD
DTSTART:20241027T030000
RRULE:FREQ=YEARLY;BYDAY=-1SU;BYMONTH=10
TZNAME:CET
TZOFFSETFROM:+0200
TZOFFSETTO:+0100
END:STANDARD
BEGIN:DAYLIGHT
DTSTART:20250330T020000
RRULE:FREQ=YEARLY;BYDAY=-1SU;BYMONTH=3
TZNAME:CEST
TZOFFSETFROM:+0100
TZOFFSETTO:+0200
END:DAYLIGHT
END:VTIMEZONE
BEGIN:VEVENT
DESCRIPTION:Un musical que se desarrolla en una isla llamada Sibemol\, dond
 e vive la pirata Clotilde\, hija del Pirata Barbanegra. Clotilde desea ser
  como su padre y viajar alrededor del mundo\, viviendo aventuras y buscand
 o tesoros. \nEvent link: https://teatroavanti.spaces.nexudus.com/en/events
 /view/1414958795/la-pirata-clotilde-y-los-pequemusicos-bucaneros---domingo
 -17-octubre---12-00h--público-familiar\n
DTEND;TZID=Europe/Paris:20211017T130000
DTSTAMP:20260421T221926Z
DTSTART;TZID=Europe/Paris:20211017T120000
LOCATION:Teatro Avanti
SEQUENCE:0
SUMMARY:LA PIRATA CLOTILDE Y LOS PEQUEMUSICOS BUCANEROS - Domingo 17 Octubr
 e  (12:00h) Público Familiar 
UID:ce988a97-6875-4015-9c29-a5e701f68888
END:VEVENT
END:VCALENDAR
