BEGIN:VCALENDAR
PRODID:Nexudus
VERSION:2.0
BEGIN:VTIMEZONE
TZID:Europe/Paris
X-LIC-LOCATION:Europe/Paris
BEGIN:STANDARD
DTSTART:20241027T030000
RRULE:FREQ=YEARLY;BYDAY=-1SU;BYMONTH=10
TZNAME:CET
TZOFFSETFROM:+0200
TZOFFSETTO:+0100
END:STANDARD
BEGIN:DAYLIGHT
DTSTART:20250330T020000
RRULE:FREQ=YEARLY;BYDAY=-1SU;BYMONTH=3
TZNAME:CEST
TZOFFSETFROM:+0100
TZOFFSETTO:+0200
END:DAYLIGHT
END:VTIMEZONE
BEGIN:VEVENT
DESCRIPTION:En 1961\, un matrimonio español tiene que emigrar a Alemania p
 ara conseguir el\ndinero que les permitirá pagar la casa en la que viven\
 , y que en ese momento se\nven forzados a dejar. Cincuenta años después\
 , la nieta de la pareja de emigrantes\ny el marido de ésta\, ambos fotóg
 rafos\, rehipotecan esa misma casa para poder\nperseguir sus sueños creat
 ivos. En esta ocasión\, el banco se la quedará. Un mismo\nconflicto en d
 os momentos de crisis económica. Un drama en clave de comedia que\nobliga
  a sus personajes a mudar\, no sólo de casa o de país\, sino de visión 
 de vida\nEvent link: https://teatroavanti.spaces.nexudus.com/en/events/vie
 w/471680216/la-mudanza--perigallo-teatro--avila---viernes-8-y-sabado-9-dic
 iembre--21-00-horas--público-adulto-\n
DTEND;TZID=Europe/Paris:20171209T220000
DTSTAMP:20260422T200656Z
DTSTART;TZID=Europe/Paris:20171208T210000
LOCATION:Teatro Avanti
SEQUENCE:0
SUMMARY:La mudanza. Perigallo teatro (Avila). Viernes 8 y Sabado 9 Diciembr
 e (21:00 horas).Público adulto.
UID:61b9cd0c-d362-4c35-88dd-c1af9e010c12
END:VEVENT
END:VCALENDAR
