BEGIN:VCALENDAR
PRODID:Nexudus
VERSION:2.0
BEGIN:VTIMEZONE
TZID:Europe/Paris
X-LIC-LOCATION:Europe/Paris
BEGIN:STANDARD
DTSTART:20241027T030000
RRULE:FREQ=YEARLY;BYDAY=-1SU;BYMONTH=10
TZNAME:CET
TZOFFSETFROM:+0200
TZOFFSETTO:+0100
END:STANDARD
BEGIN:DAYLIGHT
DTSTART:20250330T020000
RRULE:FREQ=YEARLY;BYDAY=-1SU;BYMONTH=3
TZNAME:CEST
TZOFFSETFROM:+0100
TZOFFSETTO:+0200
END:DAYLIGHT
END:VTIMEZONE
BEGIN:VEVENT
DESCRIPTION:Dos mujeres deambulan hacia una tierra sin fronteras donde desp
 ojarse de\nlas miserias de un presente incierto\, guardando en sus maletas
  el peso de\nla burocracia\, el miedo\, el hambre y la maternidad. Vagará
 n por sus días de\ngloria como artistas\, dejando al desnudo su rabia y s
 u alma sobre la espuma\nde un océano\, que quizás\, se encargue de sanar
  sus heridas.\nEvent link: https://teatroavanti.spaces.nexudus.com/en/even
 ts/view/941367439/la-mar-de-lejos---cía--tras-el-trapo--sábado-6-abril--
 21-00-horas-\n
DTEND;TZID=Europe/Paris:20190406T200000
DTSTAMP:20260422T133640Z
DTSTART;TZID=Europe/Paris:20190406T210000
LOCATION:Teatro Avanti
SEQUENCE:0
SUMMARY:La Mar de Lejos - Cía: Tras el Trapo. Sábado 6 Abril (21:00 horas
 )
UID:be2be2d1-cead-4b54-a7ae-91ccf4ac0486
END:VEVENT
END:VCALENDAR
