BEGIN:VCALENDAR
PRODID:Nexudus
VERSION:2.0
BEGIN:VTIMEZONE
TZID:Europe/Paris
X-LIC-LOCATION:Europe/Paris
BEGIN:STANDARD
DTSTART:20241027T030000
RRULE:FREQ=YEARLY;BYDAY=-1SU;BYMONTH=10
TZNAME:CET
TZOFFSETFROM:+0200
TZOFFSETTO:+0100
END:STANDARD
BEGIN:DAYLIGHT
DTSTART:20250330T020000
RRULE:FREQ=YEARLY;BYDAY=-1SU;BYMONTH=3
TZNAME:CEST
TZOFFSETFROM:+0100
TZOFFSETTO:+0200
END:DAYLIGHT
END:VTIMEZONE
BEGIN:VEVENT
DESCRIPTION:El mago Frank Pacheco\, nos transportara a todos a nuestra niñ
 ez \, contandonos su primera e inolvidable visita al maravilloso mundo del
  circo. A través de numerosos juegos de magia El Mago Frank nos presentar
 a a los personajes mas carismático que se encuentran sobre la pista centr
 al. En clave de humor\, El Mago Frank Pacheco dará rienda suelta a nuestr
 a imaginación\, con toques entrañables que hacen de La Magia del Circo u
 n espectáculo familiar donde mayores y niños disfrutaran por igual de la
  manera mas mágica.\nEvent link: https://teatroavanti.spaces.nexudus.com/
 en/events/view/1414989737/la-magia-del-circo---la-magia-de-frank---aplazad
 o-por-motivos-ajenos-a-teatro-avanti\n
DTEND;TZID=Europe/Paris:20220123T130000
DTSTAMP:20260421T185657Z
DTSTART;TZID=Europe/Paris:20220123T120000
LOCATION:Teatro Avanti
SEQUENCE:0
SUMMARY:LA MAGIA DEL CIRCO - La Magia de Frank - Aplazado por motivos ajeno
 s a Teatro Avanti
UID:71a923d6-35e9-4ae1-a6b5-cca49e518931
END:VEVENT
END:VCALENDAR
