BEGIN:VCALENDAR
PRODID:Nexudus
VERSION:2.0
BEGIN:VTIMEZONE
TZID:Europe/Paris
X-LIC-LOCATION:Europe/Paris
BEGIN:STANDARD
DTSTART:20241027T030000
RRULE:FREQ=YEARLY;BYDAY=-1SU;BYMONTH=10
TZNAME:CET
TZOFFSETFROM:+0200
TZOFFSETTO:+0100
END:STANDARD
BEGIN:DAYLIGHT
DTSTART:20250330T020000
RRULE:FREQ=YEARLY;BYDAY=-1SU;BYMONTH=3
TZNAME:CEST
TZOFFSETFROM:+0100
TZOFFSETTO:+0200
END:DAYLIGHT
END:VTIMEZONE
BEGIN:VEVENT
DESCRIPTION:Espectáculo de animación a la lectura y magia.  Un recorrido
  apasionante\n a través de los libros\, la creatividad y el ilusionismo. 
 Viviendo aventuras\, \ndescubriremos como de los libros surge la magia. Un
  libro que se dibuja solo\,\n libros que se multiplican o que se hacen má
 s pequeños\, descubre el libro de la\n música … Vivir y sentir la mag
 ia que guardan los libros.\nEvent link: https://teatroavanti.spaces.nexudu
 s.com/en/events/view/1414957989/la-magia-de-los-libros---19-septiembre--12
 -00-h--público-familiar-\n
DTEND;TZID=Europe/Paris:20210919T140000
DTSTAMP:20260421T235037Z
DTSTART;TZID=Europe/Paris:20210919T120000
LOCATION:Teatro Avanti
SEQUENCE:0
SUMMARY:LA MAGIA DE LOS LIBROS - 19 Septiembre (12:00 h) Público Familiar.
  
UID:b63aee2a-cba5-4968-bea5-eedc3db16ab3
END:VEVENT
END:VCALENDAR
