BEGIN:VCALENDAR
PRODID:Nexudus
VERSION:2.0
BEGIN:VTIMEZONE
TZID:Europe/Paris
X-LIC-LOCATION:Europe/Paris
BEGIN:STANDARD
DTSTART:20241027T030000
RRULE:FREQ=YEARLY;BYDAY=-1SU;BYMONTH=10
TZNAME:CET
TZOFFSETFROM:+0200
TZOFFSETTO:+0100
END:STANDARD
BEGIN:DAYLIGHT
DTSTART:20250330T020000
RRULE:FREQ=YEARLY;BYDAY=-1SU;BYMONTH=3
TZNAME:CEST
TZOFFSETFROM:+0100
TZOFFSETTO:+0200
END:DAYLIGHT
END:VTIMEZONE
BEGIN:VEVENT
DESCRIPTION:Esta versión de la genial obra de Robert Louis Stevenson prese
 nta un espectáculo\nmuy especial\, porque para recrear a los personajes d
 e esta historia\nse han utilizado troncos\, desechos\, abalorios y otros e
 lementos recogidos\nen las playas. El mar les ha devuelto a sus protagonis
 tas y se han convertido\nen títeres que cobran vida en las manos del titi
 ritero.\nEvent link: https://teatroavanti.spaces.nexudus.com/en/events/vie
 w/314274967/la-isla-del-tesoro---domingo-2-de-abril--19-00-h--público-fam
 iliar\n
DTEND;TZID=Europe/Paris:20170402T200000
DTSTAMP:20260423T014503Z
DTSTART;TZID=Europe/Paris:20170402T190000
LOCATION:Teatro Avanti
SEQUENCE:0
SUMMARY:LA ISLA DEL TESORO - Domingo 2 de Abril (19:00 h) Público Familiar
UID:f60475e7-4e7d-45de-8ec8-8d12c527c3bc
END:VEVENT
END:VCALENDAR
