BEGIN:VCALENDAR
PRODID:Nexudus
VERSION:2.0
BEGIN:VTIMEZONE
TZID:Europe/Paris
X-LIC-LOCATION:Europe/Paris
BEGIN:STANDARD
DTSTART:20241027T030000
RRULE:FREQ=YEARLY;BYDAY=-1SU;BYMONTH=10
TZNAME:CET
TZOFFSETFROM:+0200
TZOFFSETTO:+0100
END:STANDARD
BEGIN:DAYLIGHT
DTSTART:20250330T020000
RRULE:FREQ=YEARLY;BYDAY=-1SU;BYMONTH=3
TZNAME:CEST
TZOFFSETFROM:+0100
TZOFFSETTO:+0200
END:DAYLIGHT
END:VTIMEZONE
BEGIN:VEVENT
DESCRIPTION:Un viejo un pirata\, Long Jhon Silver\, cuenta su vida marinera
 \, llena de aventuras\ny desventuras. La novela de Stevenson se convierte 
 en una excusa\npara “diseñar” una atmósfera emocional de la vida en 
 el mar\, personajes\ny acontecimientos surgen como una manera de hacer fre
 nte a la existencia\nde la vida\, y cabalgan entre la curiosidad\, riesgo\
 , melancolía y alegría de\nandar siempre a la búsqueda de algo de miste
 rioso\, sugerente.\nEvent link: https://teatroavanti.spaces.nexudus.com/en
 /events/view/929372444/la-isla-del-tesoro---cándido-producciones---sábad
 o-30-marzo--19-00-horas--\n
DTEND;TZID=Europe/Paris:20190331T210000
DTSTAMP:20260422T133634Z
DTSTART;TZID=Europe/Paris:20190330T190000
LOCATION:Teatro Avanti
SEQUENCE:0
SUMMARY:La Isla del Tesoro - Cándido Producciones - Sábado 30 Marzo (19:0
 0 horas )
UID:4adb44e2-7ba0-4635-93b3-fb7c4c5c1237
END:VEVENT
END:VCALENDAR
