BEGIN:VCALENDAR
PRODID:Nexudus
VERSION:2.0
BEGIN:VTIMEZONE
TZID:Europe/Paris
X-LIC-LOCATION:Europe/Paris
BEGIN:STANDARD
DTSTART:20241027T030000
RRULE:FREQ=YEARLY;BYDAY=-1SU;BYMONTH=10
TZNAME:CET
TZOFFSETFROM:+0200
TZOFFSETTO:+0100
END:STANDARD
BEGIN:DAYLIGHT
DTSTART:20250330T020000
RRULE:FREQ=YEARLY;BYDAY=-1SU;BYMONTH=3
TZNAME:CEST
TZOFFSETFROM:+0100
TZOFFSETTO:+0200
END:DAYLIGHT
END:VTIMEZONE
BEGIN:VEVENT
DESCRIPTION:Antuán\, Flor y Pedro: un actor y dos antidisturbios que marca
 dos por la culpa\nson\, sin saberlo\, víctimas y verdugos los unos de los
  otros. Tres conflictos de\nactualidad que se encadenan para mostrarnos el
  absurdo panorama social al\nque hemos llegado. Un drama cómico con tinte
 s surrealistas que evoca la vida\nsencilla y reivindica la calle.\nEvent l
 ink: https://teatroavanti.spaces.nexudus.com/en/events/view/258214977/la-c
 alle-de-mariano---viernes-9-y-sábado-10-diciembre--21-00-horas-\n
DTEND;TZID=Europe/Paris:20161210T210000
DTSTAMP:20260423T044250Z
DTSTART;TZID=Europe/Paris:20161209T210000
LOCATION:TEATRO AVANTI
SEQUENCE:0
SUMMARY:La calle de Mariano - Viernes 9 y Sábado 10 Diciembre (21:00 horas
 ) 
UID:f0e33eef-97de-4c07-a053-eda5d8071d0f
END:VEVENT
END:VCALENDAR
