BEGIN:VCALENDAR
PRODID:Nexudus
VERSION:2.0
BEGIN:VTIMEZONE
TZID:Europe/Paris
X-LIC-LOCATION:Europe/Paris
BEGIN:STANDARD
DTSTART:20241027T030000
RRULE:FREQ=YEARLY;BYDAY=-1SU;BYMONTH=10
TZNAME:CET
TZOFFSETFROM:+0200
TZOFFSETTO:+0100
END:STANDARD
BEGIN:DAYLIGHT
DTSTART:20250330T020000
RRULE:FREQ=YEARLY;BYDAY=-1SU;BYMONTH=3
TZNAME:CEST
TZOFFSETFROM:+0100
TZOFFSETTO:+0200
END:DAYLIGHT
END:VTIMEZONE
BEGIN:VEVENT
DESCRIPTION:Érase una vez un príncipe egoista y consetido que vivía en u
 n castillo. Una\nbruja lanzó un maleficio sobre él y todos los que allí
  vivían. El príncipe\nfue condenado a ser una bestia\, y solo podría li
 brarse de ese maleficio si\nconseguía enamorarse de una chica antes de qu
 e cayera el último pétalo\nde una rosa encantada.\nUna joven llamada Bel
 la llega al castillo para rescatar a su padre\, que es\nprisionero de la b
 estia. Dicen que la verdadera belleza se encuentra en el\ninterior. ¿Podr
 á la chica aprender a amar a la bestia y romper el hechizo?\nEvent link: 
 https://teatroavanti.spaces.nexudus.com/en/events/view/1212562360/la-bella
 -y-la-bestia---domingo-12-enero--17-00-h--atencion-abierta-nueva-sesión-a
 -las-19-00-horas\n
DTEND;TZID=Europe/Paris:20200112T190000
DTSTAMP:20260422T085926Z
DTSTART;TZID=Europe/Paris:20200112T170000
LOCATION:Teatro Avanti
SEQUENCE:0
SUMMARY:LA BELLA Y LA BESTIA - Domingo 12 Enero (17:00 h) ATENCION abierta 
 nueva sesión a las 19:00 horas
UID:cc60a607-cfbf-45cd-af16-77fdfb586d7e
END:VEVENT
END:VCALENDAR
