BEGIN:VCALENDAR
PRODID:Nexudus
VERSION:2.0
BEGIN:VTIMEZONE
TZID:Europe/Paris
X-LIC-LOCATION:Europe/Paris
BEGIN:STANDARD
DTSTART:20241027T030000
RRULE:FREQ=YEARLY;BYDAY=-1SU;BYMONTH=10
TZNAME:CET
TZOFFSETFROM:+0200
TZOFFSETTO:+0100
END:STANDARD
BEGIN:DAYLIGHT
DTSTART:20250330T020000
RRULE:FREQ=YEARLY;BYDAY=-1SU;BYMONTH=3
TZNAME:CEST
TZOFFSETFROM:+0100
TZOFFSETTO:+0200
END:DAYLIGHT
END:VTIMEZONE
BEGIN:VEVENT
DESCRIPTION:La obra es una reflexión divertida sobre la complejidad de ser
  mujer\, de lo exigente\,\ny mil veces contradictorio del rol femenino. De
  la lata que da eso de tratar\nde ser una mujer perfecta\, ser una “supe
 rguoman”\, donde se da por hecho que\nya tenemos que saber cómo serlo p
 or el simple hecho de haber nacido mujeres\ny cómo en realidad\, estamos 
 totalmente perdidas\, y salimos del paso lo mejor\nque podemos\, que ya es
  mucho. La protagonista se enfrenta a situaciones cotidianas\nde cualquier
  mujer y cuenta cómo sobrevive o las sobrelleva\, siempre\ncon muchísimo
  humor\, hasta llegar a provocar auténticas carcajadas.\n\nPrecio entrada
  venta anticipada en taquilla 8 € - El mismo día del espectáculo 10 
 €.\nEvent link: https://teatroavanti.spaces.nexudus.com/en/events/view/1
 414864258/jodidas-pero-contentas---sabado-6-de-marzo--16-30-h---publico-ad
 ulto-\n
DTEND;TZID=Europe/Paris:20210306T193000
DTSTAMP:20260422T024354Z
DTSTART;TZID=Europe/Paris:20210305T163000
LOCATION:Teatro Avanti
SEQUENCE:0
SUMMARY:JODIDAS PERO CONTENTAS - Sabado 6 de Marzo (16:30 h). Publico Adult
 o.
UID:67a2dff1-58a1-4b13-ac7e-ef8d66be778a
END:VEVENT
END:VCALENDAR
