BEGIN:VCALENDAR
PRODID:Nexudus
VERSION:2.0
BEGIN:VTIMEZONE
TZID:Europe/Paris
X-LIC-LOCATION:Europe/Paris
BEGIN:STANDARD
DTSTART:20241027T030000
RRULE:FREQ=YEARLY;BYDAY=-1SU;BYMONTH=10
TZNAME:CET
TZOFFSETFROM:+0200
TZOFFSETTO:+0100
END:STANDARD
BEGIN:DAYLIGHT
DTSTART:20250330T020000
RRULE:FREQ=YEARLY;BYDAY=-1SU;BYMONTH=3
TZNAME:CEST
TZOFFSETFROM:+0100
TZOFFSETTO:+0200
END:DAYLIGHT
END:VTIMEZONE
BEGIN:VEVENT
DESCRIPTION:La obra es una reflexión divertida sobre la complejidad de ser
  mujer\, de lo exigente\,        \ny mil veces contradictorio del rol feme
 nino. De la lata que da eso de tratar\nde ser una mujer perfecta\, ser una
  "superguoman"\, donde se da por hecho que\nya tenemos que saber cómo ser
 lo por el simple hecho de haber nacido mujeres\ny cómo en realidad\, esta
 mos totalmente perdidas\, y salimos del paso lo mejor\nque podemos\, que y
 a es mucho. La protagonista se enfrenta a situaciones cotidianas\nde cualq
 uier mujer y cuenta cómo sobrevive o las sobrelleva\, siempre\ncon muchis
 imo humor\, Hasta Llegar a provocar Auténticas carcajadas.\nEvent link: h
 ttps://teatroavanti.spaces.nexudus.com/en/events/view/1414997239/jodidas-p
 ero-contentas---producciones-avanti---sábado-5-marzo--21-00-h----público
 -adulto\n
DTEND;TZID=Europe/Paris:20220305T220000
DTSTAMP:20260421T185513Z
DTSTART;TZID=Europe/Paris:20220305T210000
LOCATION:Teatro Avanti
SEQUENCE:0
SUMMARY:JODIDAS PERO CONTENTAS - Producciones Avanti - Sábado 5 Marzo (21:
 00 h) - Público Adulto
UID:2f4877a9-1748-461f-a626-05601ad90b03
END:VEVENT
END:VCALENDAR
