BEGIN:VCALENDAR
PRODID:Nexudus
VERSION:2.0
BEGIN:VTIMEZONE
TZID:Europe/Paris
X-LIC-LOCATION:Europe/Paris
BEGIN:STANDARD
DTSTART:20241027T030000
RRULE:FREQ=YEARLY;BYDAY=-1SU;BYMONTH=10
TZNAME:CET
TZOFFSETFROM:+0200
TZOFFSETTO:+0100
END:STANDARD
BEGIN:DAYLIGHT
DTSTART:20250330T020000
RRULE:FREQ=YEARLY;BYDAY=-1SU;BYMONTH=3
TZNAME:CEST
TZOFFSETFROM:+0100
TZOFFSETTO:+0200
END:DAYLIGHT
END:VTIMEZONE
BEGIN:VEVENT
DESCRIPTION:Por cuarto año consecutivo se celebra la Gala del Teatro Afici
 onado de Córdoba. Durante la misma se hará entrega de los premios Duque 
 de Rivas a distintas compañías de teatro\, así como los Duque de Rivas 
 de Honor y el Duque de Rivas extraordinario a personas e instituciones que
  apoyan el teatro aficionado cordobés.\n\nEntrada gratuita hasta completa
 r aforo.\nEvent link: https://teatroavanti.spaces.nexudus.com/en/events/vi
 ew/1168355191/iv-gala-del-teatro-aficionado---sábado-16-noviembre--19-00-
 h--todos-los-públicos\n
DTEND;TZID=Europe/Paris:20191116T220000
DTSTAMP:20260422T102307Z
DTSTART;TZID=Europe/Paris:20191116T210000
LOCATION:Teatro Avanti
SEQUENCE:0
SUMMARY:IV Gala del Teatro Aficionado - Sábado 16 Noviembre (19:00 h) Todo
 s los Públicos
UID:c9d033bd-579f-4516-bd01-48406cf1f59a
END:VEVENT
END:VCALENDAR
