BEGIN:VCALENDAR
PRODID:Nexudus
VERSION:2.0
BEGIN:VTIMEZONE
TZID:Europe/Paris
X-LIC-LOCATION:Europe/Paris
BEGIN:STANDARD
DTSTART:20241027T030000
RRULE:FREQ=YEARLY;BYDAY=-1SU;BYMONTH=10
TZNAME:CET
TZOFFSETFROM:+0200
TZOFFSETTO:+0100
END:STANDARD
BEGIN:DAYLIGHT
DTSTART:20250330T020000
RRULE:FREQ=YEARLY;BYDAY=-1SU;BYMONTH=3
TZNAME:CEST
TZOFFSETFROM:+0100
TZOFFSETTO:+0200
END:DAYLIGHT
END:VTIMEZONE
BEGIN:VEVENT
DESCRIPTION:Es una experiencia cómica única e irrepetible\, en la que el 
 público decide\nde manera directa la mayoría de los elementos de las his
 torias que se\nrepresentan. Nuestros actores no saben qué personajes inte
 rpretarán o\ndónde se desarrollarán sus aventuras escénicas hasta que 
 el público da sus\nindicaciones. Además de esta peculiaridad\, una gran 
 variedad de pruebas\ndan color a las improvisaciones\, que se convierten e
 n verdaderos retos cuya\ndificultad creciente contagia al público del vé
 rtigo que supone el salto al\nvacío característico de este tipo de teatr
 o.\nEvent link: https://teatroavanti.spaces.nexudus.com/en/events/view/121
 2622423/improductivos-show---sábado-18-enero--21-00-horas-\n
DTEND;TZID=Europe/Paris:20200118T220000
DTSTAMP:20260422T085022Z
DTSTART;TZID=Europe/Paris:20200118T210000
LOCATION:Teatro Avanti
SEQUENCE:0
SUMMARY:Improductivos Show - Sábado 18 Enero (21:00 horas)
UID:8ee645de-b729-452c-af8b-25569610552c
END:VEVENT
END:VCALENDAR
