BEGIN:VCALENDAR
PRODID:Nexudus
VERSION:2.0
BEGIN:VTIMEZONE
TZID:Europe/Paris
X-LIC-LOCATION:Europe/Paris
BEGIN:STANDARD
DTSTART:20241027T030000
RRULE:FREQ=YEARLY;BYDAY=-1SU;BYMONTH=10
TZNAME:CET
TZOFFSETFROM:+0200
TZOFFSETTO:+0100
END:STANDARD
BEGIN:DAYLIGHT
DTSTART:20250330T020000
RRULE:FREQ=YEARLY;BYDAY=-1SU;BYMONTH=3
TZNAME:CEST
TZOFFSETFROM:+0100
TZOFFSETTO:+0200
END:DAYLIGHT
END:VTIMEZONE
BEGIN:VEVENT
DESCRIPTION:Bienvenidos al increíble SHOW de MÚSICA EN DIRECTO. Un ESPECT
 ÁCULO de música maravilloso. Las mejores versiones de música de cine  i
 nterpretadas por violín y cello\, un show lleno de sorpresas que no dejar
 á a nadie indiferente!!!\nEvent link: https://teatroavanti.spaces.nexudus
 .com/en/events/view/1388557174/idomeneo---viernes-23-octubre--21-00-h--tod
 os-los-públicos-\n
DTEND;TZID=Europe/Paris:20201023T230000
DTSTAMP:20260422T054919Z
DTSTART;TZID=Europe/Paris:20201023T210000
LOCATION:Teatro Avanti
SEQUENCE:0
SUMMARY:Idomeneo - Viernes 23 Octubre (21:00 h) Todos los Públicos.
UID:cc58a54d-bdc8-4821-9b27-daacb1a0119c
END:VEVENT
END:VCALENDAR
