BEGIN:VCALENDAR
PRODID:Nexudus
VERSION:2.0
BEGIN:VTIMEZONE
TZID:Europe/Paris
X-LIC-LOCATION:Europe/Paris
BEGIN:STANDARD
DTSTART:20241027T030000
RRULE:FREQ=YEARLY;BYDAY=-1SU;BYMONTH=10
TZNAME:CET
TZOFFSETFROM:+0200
TZOFFSETTO:+0100
END:STANDARD
BEGIN:DAYLIGHT
DTSTART:20250330T020000
RRULE:FREQ=YEARLY;BYDAY=-1SU;BYMONTH=3
TZNAME:CEST
TZOFFSETFROM:+0100
TZOFFSETTO:+0200
END:DAYLIGHT
END:VTIMEZONE
BEGIN:VEVENT
DESCRIPTION:Horacio y la montaña azul es una obra de teatro para público 
 familiar\,\nespecialmente recomendada para niños y niñas a partir de 2-3
  años. Es\nun espectáculo tierno\, emotivo\, lleno de sorpresas y muy di
 vertido\, que\nenseña a grandes y pequeños a ver la vida de forma positi
 va y a descubrir\ntodas sus fortalezas.\nEvent link: https://teatroavanti.
 spaces.nexudus.com/en/events/view/448572249/horacio-y-la-montaña-azul---d
 omingo-22-octubre-18-00-h---público-familiar-\n
DTEND;TZID=Europe/Paris:20171022T200000
DTSTAMP:20260422T213805Z
DTSTART;TZID=Europe/Paris:20171022T180000
LOCATION:Teatro Avanti
SEQUENCE:0
SUMMARY:Horacio y la montaña azul. (Domingo 22 Octubre 18:00 h.) Público 
 Familiar.
UID:0dd3ec97-e5a8-4023-8c09-da5645481b51
END:VEVENT
END:VCALENDAR
