BEGIN:VCALENDAR
PRODID:Nexudus
VERSION:2.0
BEGIN:VTIMEZONE
TZID:Europe/Paris
X-LIC-LOCATION:Europe/Paris
BEGIN:STANDARD
DTSTART:20241027T030000
RRULE:FREQ=YEARLY;BYDAY=-1SU;BYMONTH=10
TZNAME:CET
TZOFFSETFROM:+0200
TZOFFSETTO:+0100
END:STANDARD
BEGIN:DAYLIGHT
DTSTART:20250330T020000
RRULE:FREQ=YEARLY;BYDAY=-1SU;BYMONTH=3
TZNAME:CEST
TZOFFSETFROM:+0100
TZOFFSETTO:+0200
END:DAYLIGHT
END:VTIMEZONE
BEGIN:VEVENT
DESCRIPTION:El matrimonio cordobés que ha sabido llegar al gran público c
 on su carisma y sencillez\, con más de un millón y medio de seguidores e
 n redes sociales y millones de reproducciones de sus vídeos . Un monólog
 o entre marido y mujer con carcajadas y risas 100% garantizadas.\nEvent li
 nk: https://teatroavanti.spaces.nexudus.com/en/events/view/1415084841/hast
 a-que-la-muerte-nos-separe---paco-y-maite---sábado-19-noviembre--19-00-h-
 y-21-00-h--público-adulto\n
DTEND;TZID=Europe/Paris:20221119T220000
DTSTAMP:20260421T140533Z
DTSTART;TZID=Europe/Paris:20221119T210000
LOCATION:Teatro Avanti
SEQUENCE:0
SUMMARY:HASTA QUE LA MUERTE NOS SEPARE - Paco y Maite - Sábado 19 Noviembr
 e (19:00 h y 21:00 h) Público Adulto
UID:6c664be1-fb27-42ea-bf1e-d882d4185915
END:VEVENT
END:VCALENDAR
