BEGIN:VCALENDAR
PRODID:Nexudus
VERSION:2.0
BEGIN:VTIMEZONE
TZID:Europe/Paris
X-LIC-LOCATION:Europe/Paris
BEGIN:STANDARD
DTSTART:20241027T030000
RRULE:FREQ=YEARLY;BYDAY=-1SU;BYMONTH=10
TZNAME:CET
TZOFFSETFROM:+0200
TZOFFSETTO:+0100
END:STANDARD
BEGIN:DAYLIGHT
DTSTART:20250330T020000
RRULE:FREQ=YEARLY;BYDAY=-1SU;BYMONTH=3
TZNAME:CEST
TZOFFSETFROM:+0100
TZOFFSETTO:+0200
END:DAYLIGHT
END:VTIMEZONE
BEGIN:VEVENT
DESCRIPTION:Espectáculo dinámico\, atrevido donde se conjuga el mundo de 
 la Magía con\nel Agua siendo este el nexo de unión durante el desarrollo
  del mismo. Espectáculo\ninteractivo con participación del público y do
 nde el agua es parte\nimprescindible y muy importante del mismo y donde la
 s técnicas y efectos\nmágicos empleados necesitan en su mayoría de este
  elemento. MOJATE con\nClara\, el Mago Alua y Flain en este refrescante y 
 mágico espectáculo.\nEvent link: https://teatroavanti.spaces.nexudus.com
 /en/events/view/665856513/h2ohhhh--la-magia-del-agua---cía---producciones
 -avanti--córdoba----domingo-21-octubre-12-00-y-18-00-h-\n
DTEND;TZID=Europe/Paris:20181021T190000
DTSTAMP:20260422T165445Z
DTSTART;TZID=Europe/Paris:20181021T120000
LOCATION:Teatro Avanti
SEQUENCE:0
SUMMARY:H2OHHHH. LA MAGIA DEL AGUA - Cía.: Producciones Avanti (Córdoba) 
 - Domingo 21 Octubre 12:00 y 18:00 h)
UID:826c056e-509f-4069-89e6-ab9301d56fbb
END:VEVENT
END:VCALENDAR
