BEGIN:VCALENDAR
PRODID:Nexudus
VERSION:2.0
BEGIN:VTIMEZONE
TZID:Europe/Paris
X-LIC-LOCATION:Europe/Paris
BEGIN:STANDARD
DTSTART:20241027T030000
RRULE:FREQ=YEARLY;BYDAY=-1SU;BYMONTH=10
TZNAME:CET
TZOFFSETFROM:+0200
TZOFFSETTO:+0100
END:STANDARD
BEGIN:DAYLIGHT
DTSTART:20250330T020000
RRULE:FREQ=YEARLY;BYDAY=-1SU;BYMONTH=3
TZNAME:CEST
TZOFFSETFROM:+0100
TZOFFSETTO:+0200
END:DAYLIGHT
END:VTIMEZONE
BEGIN:VEVENT
DESCRIPTION:\nEvent link: https://teatroavanti.spaces.nexudus.com/en/events
 /view/1414923776/grupo-shakespeare---lunes-7-junio--18-30-h--entrada-libre
 -hasta-completar-aforo-\n
DTEND;TZID=Europe/Paris:20210607T183000
DTSTAMP:20260421T234657Z
DTSTART;TZID=Europe/Paris:20210607T080000
LOCATION:Teatro Avanti
SEQUENCE:0
SUMMARY:GRUPO SHAKESPEARE - Lunes 7 Junio (18:30 h) Entrada libre hasta com
 pletar aforo.
UID:2bf5a964-c536-4900-898f-fcba76b0f983
END:VEVENT
END:VCALENDAR
