BEGIN:VCALENDAR
PRODID:Nexudus
VERSION:2.0
BEGIN:VTIMEZONE
TZID:Europe/Paris
X-LIC-LOCATION:Europe/Paris
BEGIN:STANDARD
DTSTART:20241027T030000
RRULE:FREQ=YEARLY;BYDAY=-1SU;BYMONTH=10
TZNAME:CET
TZOFFSETFROM:+0200
TZOFFSETTO:+0100
END:STANDARD
BEGIN:DAYLIGHT
DTSTART:20250330T020000
RRULE:FREQ=YEARLY;BYDAY=-1SU;BYMONTH=3
TZNAME:CEST
TZOFFSETFROM:+0100
TZOFFSETTO:+0200
END:DAYLIGHT
END:VTIMEZONE
BEGIN:VEVENT
DESCRIPTION:Muestra de las Escuelas de Teatro\, Música\, Danza\, Payasos y
  Magia.\nENTRADA GRATUITA (Hasta completar aforo).\nEvent link: https://te
 atroavanti.spaces.nexudus.com/en/events/view/1016497484/grupo-shakespeare-
 --juveniles-miercoles--viernes-24-mayo-20-00-horas\n
DTEND;TZID=Europe/Paris:20190524T210000
DTSTAMP:20260422T115910Z
DTSTART;TZID=Europe/Paris:20190524T200000
LOCATION:Teatro Avanti
SEQUENCE:0
SUMMARY:GRUPO SHAKESPEARE - Juveniles miercoles. Viernes 24 Mayo 20:00 hora
 s
UID:9ac63a32-e1b8-43ed-a7cc-bbca9b384674
END:VEVENT
END:VCALENDAR
