BEGIN:VCALENDAR
PRODID:Nexudus
VERSION:2.0
BEGIN:VTIMEZONE
TZID:Europe/Paris
X-LIC-LOCATION:Europe/Paris
BEGIN:STANDARD
DTSTART:20241027T030000
RRULE:FREQ=YEARLY;BYDAY=-1SU;BYMONTH=10
TZNAME:CET
TZOFFSETFROM:+0200
TZOFFSETTO:+0100
END:STANDARD
BEGIN:DAYLIGHT
DTSTART:20250330T020000
RRULE:FREQ=YEARLY;BYDAY=-1SU;BYMONTH=3
TZNAME:CEST
TZOFFSETFROM:+0100
TZOFFSETTO:+0200
END:DAYLIGHT
END:VTIMEZONE
BEGIN:VEVENT
DESCRIPTION:Disfruta del los trabajos que los alumnos/as de nuestras Escuel
 as de Teatro\, Música\, Danza y Magia os ha preparado.\nDel 20 de Mayo al
  25 de Junio en TEATRO AVANTI. (Entrada Libre hasta completar aforo)\nEven
 t link: https://teatroavanti.spaces.nexudus.com/en/events/view/388030652/g
 rupo-lorca-grupo-down----15-junio--jueves-19-00-horas----entrada-libre-has
 ta-completar-aforo-\n
DTEND;TZID=Europe/Paris:20170615T190000
DTSTAMP:20260422T225627Z
DTSTART;TZID=Europe/Paris:20170615T190000
LOCATION:Teatro Avanti
SEQUENCE:0
SUMMARY:GRUPO LORCA GRUPO DOWN -  15 JUNIO- JUEVES 19.00 HORAS - (Entrada L
 ibre hasta completar aforo)
UID:c6c5b9b2-b5c5-4354-a0ed-5a341dc12769
END:VEVENT
END:VCALENDAR
