BEGIN:VCALENDAR
PRODID:Nexudus
VERSION:2.0
BEGIN:VTIMEZONE
TZID:Europe/Paris
X-LIC-LOCATION:Europe/Paris
BEGIN:STANDARD
DTSTART:20241027T030000
RRULE:FREQ=YEARLY;BYDAY=-1SU;BYMONTH=10
TZNAME:CET
TZOFFSETFROM:+0200
TZOFFSETTO:+0100
END:STANDARD
BEGIN:DAYLIGHT
DTSTART:20250330T020000
RRULE:FREQ=YEARLY;BYDAY=-1SU;BYMONTH=3
TZNAME:CEST
TZOFFSETFROM:+0100
TZOFFSETTO:+0200
END:DAYLIGHT
END:VTIMEZONE
BEGIN:VEVENT
DESCRIPTION:Muestra de las Escuelas de Teatro\, Música\, Danza\, Payasos y
  Magia.\nENTRADA GRATUITA (Hasta completar aforo).\nEvent link: https://te
 atroavanti.spaces.nexudus.com/en/events/view/1026662639/grupo-lope-de-vega
 --jueves-6-de-junio--20-30-horas-\n
DTEND;TZID=Europe/Paris:20190606T220000
DTSTAMP:20260422T115905Z
DTSTART;TZID=Europe/Paris:20190606T203000
LOCATION:Teatro Avanti
SEQUENCE:0
SUMMARY:GRUPO LOPE DE VEGA. Jueves 6 de Junio (20:30 horas)
UID:edba8430-b125-407d-aac2-31d1abdf3f2f
END:VEVENT
END:VCALENDAR
