BEGIN:VCALENDAR
PRODID:Nexudus
VERSION:2.0
BEGIN:VTIMEZONE
TZID:Europe/Paris
X-LIC-LOCATION:Europe/Paris
BEGIN:STANDARD
DTSTART:20241027T030000
RRULE:FREQ=YEARLY;BYDAY=-1SU;BYMONTH=10
TZNAME:CET
TZOFFSETFROM:+0200
TZOFFSETTO:+0100
END:STANDARD
BEGIN:DAYLIGHT
DTSTART:20250330T020000
RRULE:FREQ=YEARLY;BYDAY=-1SU;BYMONTH=3
TZNAME:CEST
TZOFFSETFROM:+0100
TZOFFSETTO:+0200
END:DAYLIGHT
END:VTIMEZONE
BEGIN:VEVENT
DESCRIPTION:\nEvent link: https://teatroavanti.spaces.nexudus.com/en/events
 /view/1414923866/grupo-lope-de-vega---viernes18-junio--20-30-h--entrada-li
 bre-hasta-completar-aforo-\n
DTEND;TZID=Europe/Paris:20210618T200000
DTSTAMP:20260421T234549Z
DTSTART;TZID=Europe/Paris:20210618T080000
LOCATION:Teatro Avanti
SEQUENCE:0
SUMMARY:GRUPO LOPE DE VEGA - Viernes18 Junio (20:30 h) Entrada libre hasta 
 completar aforo.
UID:387f8d7e-7487-42ea-ac0e-4e62a0f0c286
END:VEVENT
END:VCALENDAR
