BEGIN:VCALENDAR
PRODID:Nexudus
VERSION:2.0
BEGIN:VTIMEZONE
TZID:Europe/Paris
X-LIC-LOCATION:Europe/Paris
BEGIN:STANDARD
DTSTART:20241027T030000
RRULE:FREQ=YEARLY;BYDAY=-1SU;BYMONTH=10
TZNAME:CET
TZOFFSETFROM:+0200
TZOFFSETTO:+0100
END:STANDARD
BEGIN:DAYLIGHT
DTSTART:20250330T020000
RRULE:FREQ=YEARLY;BYDAY=-1SU;BYMONTH=3
TZNAME:CEST
TZOFFSETFROM:+0100
TZOFFSETTO:+0200
END:DAYLIGHT
END:VTIMEZONE
BEGIN:VEVENT
DESCRIPTION:\nEvent link: https://teatroavanti.spaces.nexudus.com/en/events
 /view/1414926891/grupo-la-sonrisa-de-talia---domingo-20-de-junio--20-00-h-
 -entrada-libre-hasta-completar-aforo-\n
DTEND;TZID=Europe/Paris:20210620T200000
DTSTAMP:20260421T234840Z
DTSTART;TZID=Europe/Paris:20210620T080000
LOCATION:Teatro Avanti
SEQUENCE:0
SUMMARY:GRUPO LA SONRISA DE TALIA - Domingo 20 de Junio (20:00 h) Entrada l
 ibre hasta completar aforo.
UID:de9c3e0a-18a6-4311-bf38-ebe9e26c7733
END:VEVENT
END:VCALENDAR
