BEGIN:VCALENDAR
PRODID:Nexudus
VERSION:2.0
BEGIN:VTIMEZONE
TZID:Europe/Paris
X-LIC-LOCATION:Europe/Paris
BEGIN:STANDARD
DTSTART:20241027T030000
RRULE:FREQ=YEARLY;BYDAY=-1SU;BYMONTH=10
TZNAME:CET
TZOFFSETFROM:+0200
TZOFFSETTO:+0100
END:STANDARD
BEGIN:DAYLIGHT
DTSTART:20250330T020000
RRULE:FREQ=YEARLY;BYDAY=-1SU;BYMONTH=3
TZNAME:CEST
TZOFFSETFROM:+0100
TZOFFSETTO:+0200
END:DAYLIGHT
END:VTIMEZONE
BEGIN:VEVENT
DESCRIPTION:\nEvent link: https://teatroavanti.spaces.nexudus.com/en/events
 /view/1414923777/grupo-eterno-lorca---viernes-11-junio--20-00-h--entrada-l
 ibre-hasta-completar-aforo-\n
DTEND;TZID=Europe/Paris:20210611T200000
DTSTAMP:20260421T234549Z
DTSTART;TZID=Europe/Paris:20210611T080000
LOCATION:Teatro Avanti
SEQUENCE:0
SUMMARY:GRUPO ETERNO LORCA - Viernes 11 Junio (20:00 h) Entrada libre hasta
  completar aforo.
UID:5273c4ec-fd63-48be-b0eb-56e76b3a543b
END:VEVENT
END:VCALENDAR
