BEGIN:VCALENDAR
PRODID:Nexudus
VERSION:2.0
BEGIN:VTIMEZONE
TZID:Europe/Paris
X-LIC-LOCATION:Europe/Paris
BEGIN:STANDARD
DTSTART:20241027T030000
RRULE:FREQ=YEARLY;BYDAY=-1SU;BYMONTH=10
TZNAME:CET
TZOFFSETFROM:+0200
TZOFFSETTO:+0100
END:STANDARD
BEGIN:DAYLIGHT
DTSTART:20250330T020000
RRULE:FREQ=YEARLY;BYDAY=-1SU;BYMONTH=3
TZNAME:CEST
TZOFFSETFROM:+0100
TZOFFSETTO:+0200
END:DAYLIGHT
END:VTIMEZONE
BEGIN:VEVENT
DESCRIPTION:\nEvent link: https://teatroavanti.spaces.nexudus.com/en/events
 /view/1414923862/grupo-avanticlown---viernes-4-junio--21-00-h--entrada-lib
 re-hasta-completar-aforo-\n
DTEND;TZID=Europe/Paris:20210604T210000
DTSTAMP:20260422T010800Z
DTSTART;TZID=Europe/Paris:20210604T080000
LOCATION:Teatro Avanti
SEQUENCE:0
SUMMARY:GRUPO AVANTICLOWN - Viernes 4 Junio (21:00 h) Entrada libre hasta c
 ompletar aforo.
UID:3d0eb650-dc83-4adc-9263-15daf0e7f27f
END:VEVENT
END:VCALENDAR
