BEGIN:VCALENDAR
PRODID:Nexudus
VERSION:2.0
BEGIN:VTIMEZONE
TZID:Europe/Paris
X-LIC-LOCATION:Europe/Paris
BEGIN:STANDARD
DTSTART:20241027T030000
RRULE:FREQ=YEARLY;BYDAY=-1SU;BYMONTH=10
TZNAME:CET
TZOFFSETFROM:+0200
TZOFFSETTO:+0100
END:STANDARD
BEGIN:DAYLIGHT
DTSTART:20250330T020000
RRULE:FREQ=YEARLY;BYDAY=-1SU;BYMONTH=3
TZNAME:CEST
TZOFFSETFROM:+0100
TZOFFSETTO:+0200
END:DAYLIGHT
END:VTIMEZONE
BEGIN:VEVENT
DESCRIPTION:“Gloria La Fuerte” es un canto a la igualdad entre masculin
 o y femenino\, de los géneros\, es un canto al respeto\, a la tolerancia 
 \, hacia el valor por lo diferente y la paz\, la no violencia.\nEvent link
 : https://teatroavanti.spaces.nexudus.com/en/events/view/512618120/gloria-
 la-fuerte--domingo-25-febrero--18-00-h--público-familiar-\n
DTEND;TZID=Europe/Paris:20180225T200000
DTSTAMP:20260422T182836Z
DTSTART;TZID=Europe/Paris:20180225T180000
LOCATION:Teatro Avanti
SEQUENCE:0
SUMMARY:Gloria la Fuerte. Domingo 25 Febrero (18:00 h) Público Familiar.
UID:7d8ec121-13cf-42c5-85c8-fd4d80375c07
END:VEVENT
END:VCALENDAR
