BEGIN:VCALENDAR
PRODID:Nexudus
VERSION:2.0
BEGIN:VTIMEZONE
TZID:Europe/Paris
X-LIC-LOCATION:Europe/Paris
BEGIN:STANDARD
DTSTART:20241027T030000
RRULE:FREQ=YEARLY;BYDAY=-1SU;BYMONTH=10
TZNAME:CET
TZOFFSETFROM:+0200
TZOFFSETTO:+0100
END:STANDARD
BEGIN:DAYLIGHT
DTSTART:20250330T020000
RRULE:FREQ=YEARLY;BYDAY=-1SU;BYMONTH=3
TZNAME:CEST
TZOFFSETFROM:+0100
TZOFFSETTO:+0200
END:DAYLIGHT
END:VTIMEZONE
BEGIN:VEVENT
DESCRIPTION:Los mejores magos del panorama nacional e internacional en el m
 undo de la\nmagia se dan cita en esta fantástica e ilusionante gala:\nBER
 KO. Conoce el cuento de Hamelin como no te lo habían\ncontado hasta ahora
 .\nDAVID DIAZ. Es el mas joven de los finalistas de la ultima temporada de
  Pura Magia en TVE  2018\nLOS TAPS: la excéntrica pareja de artistas mago
 s comicos\, nos harán pasar quizá los momentos mas divertidos de esta fa
 ntástica gala mágica.\nHECTOR SANSEGUNDO: Este segoviano lleva más de 1
 5 años dando guerra sobre los escenarios\, mago\, humorista y showman!!.y
  premiado a nivel internacional\,que más se puede pedir.\npresenta Miguel
  Ángel Gea: el mago español más reconocido en el mundo por la especiadi
 dad de numismagia\, profesor de la escuela de Ana Tamariz\, jurado en Pura
  Magia de TVE 2017 e innumerables premios que lleva a sus espaldas.\n\nEve
 nt link: https://teatroavanti.spaces.nexudus.com/en/events/view/714422297/
 gala-magica---1o-noviembre--21-00-h---ultimas-localidades-de-venta-exclusi
 va-taquilla\n
DTEND;TZID=Europe/Paris:20181110T230000
DTSTAMP:20260422T165317Z
DTSTART;TZID=Europe/Paris:20181110T210000
LOCATION:Teatro Avanti
SEQUENCE:0
SUMMARY:GALA MAGICA - 1O Noviembre (21:00 h.) ULTIMAS LOCALIDADES DE VENTA 
 EXCLUSIVA TAQUILLA
UID:404f5213-9488-4399-84cf-bec7d301c44b
END:VEVENT
END:VCALENDAR
