BEGIN:VCALENDAR
PRODID:Nexudus
VERSION:2.0
BEGIN:VTIMEZONE
TZID:Europe/Paris
X-LIC-LOCATION:Europe/Paris
BEGIN:STANDARD
DTSTART:20241027T030000
RRULE:FREQ=YEARLY;BYDAY=-1SU;BYMONTH=10
TZNAME:CET
TZOFFSETFROM:+0200
TZOFFSETTO:+0100
END:STANDARD
BEGIN:DAYLIGHT
DTSTART:20250330T020000
RRULE:FREQ=YEARLY;BYDAY=-1SU;BYMONTH=3
TZNAME:CEST
TZOFFSETFROM:+0100
TZOFFSETTO:+0200
END:DAYLIGHT
END:VTIMEZONE
BEGIN:VEVENT
DESCRIPTION:Contaremos con los mejores y mas premiados magos a nivel intern
 acional\, Alberto Fábulo (Ciudad Real)\, Javi Benitez (Sevilla)\, Naife (
 Huelva)\, Oihan Palacín (Zaragoza)\, Robin Ventura (Madrid).\n\nPrecio en
 trada venta anticipada en taquilla 10 € - El mismo día del espectáculo
  12 €\nEvent link: https://teatroavanti.spaces.nexudus.com/en/events/vie
 w/1163561399/gala-mágica-sábado-9--21-00-h--todos-los-públicos\n
DTEND;TZID=Europe/Paris:20191109T210000
DTSTAMP:20260422T101756Z
DTSTART;TZID=Europe/Paris:20191109T210000
LOCATION:Teatro Avanti
SEQUENCE:0
SUMMARY:GALA MÁGICA Sábado 9 (21:00 h) Todos los públicos
UID:23e16f71-f27d-4b68-9e55-8c0e01a8f4a0
END:VEVENT
END:VCALENDAR
