BEGIN:VCALENDAR
PRODID:Nexudus
VERSION:2.0
BEGIN:VTIMEZONE
TZID:Europe/Paris
X-LIC-LOCATION:Europe/Paris
BEGIN:STANDARD
DTSTART:20241027T030000
RRULE:FREQ=YEARLY;BYDAY=-1SU;BYMONTH=10
TZNAME:CET
TZOFFSETFROM:+0200
TZOFFSETTO:+0100
END:STANDARD
BEGIN:DAYLIGHT
DTSTART:20250330T020000
RRULE:FREQ=YEARLY;BYDAY=-1SU;BYMONTH=3
TZNAME:CEST
TZOFFSETFROM:+0100
TZOFFSETTO:+0200
END:DAYLIGHT
END:VTIMEZONE
BEGIN:VEVENT
DESCRIPTION: Con motivo del Día Internacional contra el Cáncer Infantil\,
  tendrá lugar una gran Gala Solidaria. Serán\, Los Médicos de la Risa d
 el Hospital Universitario Reina Sofía de Córdoba\, y Teatro Avanti los e
 ncargados de hacernos pasar un día inolvidable a través de la magia\, el
  circo y mucha alegría\, y a la vez concienciar y dar visibilidad al trab
 ajo de investigación en oncología pediátrica que lleva a cabo el  Insti
 tuto Maimónides de Investigación Biomédica de Córdoba (IMIBIC)\,  en e
 l Hospital Universitario Reina Sofía.\nEvent link: https://teatroavanti.s
 paces.nexudus.com/en/events/view/1414990107/gala-contra-el-cancer-infantil
 ---los-médicos-de-la-risa---domingo-13-febrero--18-00-h----público-famil
 iar\n
DTEND;TZID=Europe/Paris:20220213T190000
DTSTAMP:20260421T185532Z
DTSTART;TZID=Europe/Paris:20220213T180000
LOCATION:Teatro Avanti
SEQUENCE:0
SUMMARY:GALA CONTRA EL CANCER INFANTIL - Los Médicos de la Risa - Domingo 
 13 Febrero (18:00 h) - Público Familiar
UID:42e49e6c-228b-4b7d-a3e3-ab9d3de57587
END:VEVENT
END:VCALENDAR
