BEGIN:VCALENDAR
PRODID:Nexudus
VERSION:2.0
BEGIN:VTIMEZONE
TZID:Europe/Paris
X-LIC-LOCATION:Europe/Paris
BEGIN:STANDARD
DTSTART:20241027T030000
RRULE:FREQ=YEARLY;BYDAY=-1SU;BYMONTH=10
TZNAME:CET
TZOFFSETFROM:+0200
TZOFFSETTO:+0100
END:STANDARD
BEGIN:DAYLIGHT
DTSTART:20250330T020000
RRULE:FREQ=YEARLY;BYDAY=-1SU;BYMONTH=3
TZNAME:CEST
TZOFFSETFROM:+0100
TZOFFSETTO:+0200
END:DAYLIGHT
END:VTIMEZONE
BEGIN:VEVENT
DESCRIPTION:La pequeña Magdalena\, que quiere que la llamen Frida\, está 
 enferma de polio.\nLleva varios meses guardando reposo y ya no aguanta má
 s estar sola en su habitación.\nSus padres quieren que descanse\, pero el
 la hace lo imposible para que\nno la dejen sola. Quiere ser médico para c
 urar a niñas como ella. Pero su madre\nse niega. Una vez sola\, a través
  de su imaginación\, irán apareciendo diferentes\npersonajes como El Mon
 o Chango\, Charles Chaplin\, Picasso que junto a su amiga\nimaginaria tamb
 ién llamada Frida\, le van a descubrir el mundo de la pintura.\nEvent lin
 k: https://teatroavanti.spaces.nexudus.com/en/events/view/1414973336/frida
 --la-niña-que-queria-pintar---domingo-21-noviembre--18-00-h-\n
DTEND;TZID=Europe/Paris:20211121T190000
DTSTAMP:20260421T203112Z
DTSTART;TZID=Europe/Paris:20211121T180000
LOCATION:Teatro Avanti
SEQUENCE:0
SUMMARY:Frida\, la niña que queria pintar - Domingo 21 Noviembre (18:00 h)
UID:7277b953-02c7-4960-8697-4aedb084dd3b
END:VEVENT
END:VCALENDAR
