BEGIN:VCALENDAR
PRODID:Nexudus
VERSION:2.0
BEGIN:VTIMEZONE
TZID:Europe/Paris
X-LIC-LOCATION:Europe/Paris
BEGIN:STANDARD
DTSTART:20241027T030000
RRULE:FREQ=YEARLY;BYDAY=-1SU;BYMONTH=10
TZNAME:CET
TZOFFSETFROM:+0200
TZOFFSETTO:+0100
END:STANDARD
BEGIN:DAYLIGHT
DTSTART:20250330T020000
RRULE:FREQ=YEARLY;BYDAY=-1SU;BYMONTH=3
TZNAME:CEST
TZOFFSETFROM:+0100
TZOFFSETTO:+0200
END:DAYLIGHT
END:VTIMEZONE
BEGIN:VEVENT
DESCRIPTION:Fran Perea presenta en concierto su nuevo trabajo ‘Canciones 
 para salvarme’ su sexto álbum de estudio y su tercer trabajo propio y p
 roducido por él mismo en su faceta empresarial que arrancó como producto
 r de teatro. En directo\, además de los nuevos temas\, el músico malague
 ño recupera sus grandes clásicos de los álbumes La chica de la habitaci
 ón de al lado y Punto y aparte\, algunos con nuevas versiones que los ace
 rcan al verdadero estilo de Fran\, además de incluir temas de Viejos cono
 cidos (2010) y Viaja la palabra (2018). \nEvent link: https://teatroavanti
 .spaces.nexudus.com/en/events/view/1414862443/fran-perea---canciones-para-
 salvarme---sábado-15-mayo--20-00-h---público-adulto-\n
DTEND;TZID=Europe/Paris:20210515T213000
DTSTAMP:20260422T011033Z
DTSTART;TZID=Europe/Paris:20210515T200000
LOCATION:Teatro Avanti
SEQUENCE:0
SUMMARY:Fran Perea - Canciones para Salvarme - Sábado 15 Mayo (20:00 h). P
 úblico Adulto.
UID:ecb84053-3fe3-4416-8d30-99496482cd42
END:VEVENT
END:VCALENDAR
