BEGIN:VCALENDAR
PRODID:Nexudus
VERSION:2.0
BEGIN:VTIMEZONE
TZID:Europe/Paris
X-LIC-LOCATION:Europe/Paris
BEGIN:STANDARD
DTSTART:20241027T030000
RRULE:FREQ=YEARLY;BYDAY=-1SU;BYMONTH=10
TZNAME:CET
TZOFFSETFROM:+0200
TZOFFSETTO:+0100
END:STANDARD
BEGIN:DAYLIGHT
DTSTART:20250330T020000
RRULE:FREQ=YEARLY;BYDAY=-1SU;BYMONTH=3
TZNAME:CEST
TZOFFSETFROM:+0100
TZOFFSETTO:+0200
END:DAYLIGHT
END:VTIMEZONE
BEGIN:VEVENT
DESCRIPTION:El Teatro Social y Teatro del Oprimido son técnicas perfectas 
 para comunicar a través de la diversión y sobre todo para crear un espac
 io de diálogo entre la actriz y los espectadores de la obra\, para reflex
 ionar de manera crítica sobre la\nrealidad que les rodea\, analizar la vi
 olencia intrínseca en la cotidianidad\, y buscar a través de herramienta
 s artísticas\, la posibilidad de generar esperanza para el cambio social.
 \n\nEntrada libre hasta completar aforo.\nEvent link: https://teatroavanti
 .spaces.nexudus.com/en/events/view/1414972910/fragil---compañía-mojo-de-
 caña---domingo-14-noviembre--20-00-h---entrada-libre-hasta-completar-afor
 o-\n
DTEND;TZID=Europe/Paris:20211114T211500
DTSTAMP:20260421T202741Z
DTSTART;TZID=Europe/Paris:20211114T200000
LOCATION:Teatro Avanti
SEQUENCE:0
SUMMARY:Fragil - Compañía Mojo de Caña.  Domingo 14 Noviembre (20:00 H) 
  Entrada libre hasta completar aforo.
UID:99f5ed40-2a47-4186-9aff-7881ad6a1d12
END:VEVENT
END:VCALENDAR
