BEGIN:VCALENDAR
PRODID:Nexudus
VERSION:2.0
BEGIN:VTIMEZONE
TZID:Europe/Paris
X-LIC-LOCATION:Europe/Paris
BEGIN:STANDARD
DTSTART:20241027T030000
RRULE:FREQ=YEARLY;BYDAY=-1SU;BYMONTH=10
TZNAME:CET
TZOFFSETFROM:+0200
TZOFFSETTO:+0100
END:STANDARD
BEGIN:DAYLIGHT
DTSTART:20250330T020000
RRULE:FREQ=YEARLY;BYDAY=-1SU;BYMONTH=3
TZNAME:CEST
TZOFFSETFROM:+0100
TZOFFSETTO:+0200
END:DAYLIGHT
END:VTIMEZONE
BEGIN:VEVENT
DESCRIPTION:Formas es un sorprendente trabajo donde el movimiento\, la mani
 pulación\nde objetos y los efectos visuales se dan la mano para crear un 
 espectáculo\ninusual. Los espectadores son transportados a través de las
  imágenes que\nse presentan y transforman ante ellos\, adentrándolos en 
 un sugerente universo\nque cambia de forma constante.\nFormas al fin y al 
 cabo\, que nos permiten jugar con lo real y la ilusión\; “todo\nes lo q
 ue es y nada es lo que parece”.\nEvent link: https://teatroavanti.spaces
 .nexudus.com/en/events/view/258214979/formas---domingo-18-diciembre--12-00
 -y-18-00-horas--público-familiar-\n
DTEND;TZID=Europe/Paris:20161218T180000
DTSTAMP:20260423T044407Z
DTSTART;TZID=Europe/Paris:20161218T120000
LOCATION:Teatro Avanti
SEQUENCE:0
SUMMARY:Formas - Domingo 18 Diciembre (12:00 y 18:00 horas) Público famili
 ar.
UID:9d762368-f7d0-4999-bf83-c48b0441a4fc
END:VEVENT
END:VCALENDAR
