BEGIN:VCALENDAR
PRODID:Nexudus
VERSION:2.0
BEGIN:VTIMEZONE
TZID:Europe/Paris
X-LIC-LOCATION:Europe/Paris
BEGIN:STANDARD
DTSTART:20241027T030000
RRULE:FREQ=YEARLY;BYDAY=-1SU;BYMONTH=10
TZNAME:CET
TZOFFSETFROM:+0200
TZOFFSETTO:+0100
END:STANDARD
BEGIN:DAYLIGHT
DTSTART:20250330T020000
RRULE:FREQ=YEARLY;BYDAY=-1SU;BYMONTH=3
TZNAME:CEST
TZOFFSETFROM:+0100
TZOFFSETTO:+0200
END:DAYLIGHT
END:VTIMEZONE
BEGIN:VEVENT
DESCRIPTION:La historia de Pinocho y la paradoja de su nariz. Una historia 
 repleta de teatralidad.\nVersión libre para teatro del cuento de Carlo Co
 llodi.\nPinocho\, nos sirve de soporte para contar una historia en la que 
 el abandono\, la\nnecesidad de mentir o falsear la verdad y la necesidad d
 e mejorar la autoestima\nson puntos de reflexión.\nEvent link: https://te
 atroavanti.spaces.nexudus.com/en/events/view/1281529256/festival-de-titere
 s-de-cordoba--pinocho--domingo-22-marzo--18-00-horas-\n
DTEND;TZID=Europe/Paris:20200312T190000
DTSTAMP:20260422T073046Z
DTSTART;TZID=Europe/Paris:20200312T180000
LOCATION:Teatro Avanti
SEQUENCE:0
SUMMARY:FESTIVAL DE TITERES DE CORDOBA -Pinocho- Domingo 22 Marzo (18:00 ho
 ras)
UID:afecdb5a-10c1-435a-a7d5-01f4300b0e43
END:VEVENT
END:VCALENDAR
