BEGIN:VCALENDAR
PRODID:Nexudus
VERSION:2.0
BEGIN:VTIMEZONE
TZID:Europe/Paris
X-LIC-LOCATION:Europe/Paris
BEGIN:STANDARD
DTSTART:20241027T030000
RRULE:FREQ=YEARLY;BYDAY=-1SU;BYMONTH=10
TZNAME:CET
TZOFFSETFROM:+0200
TZOFFSETTO:+0100
END:STANDARD
BEGIN:DAYLIGHT
DTSTART:20250330T020000
RRULE:FREQ=YEARLY;BYDAY=-1SU;BYMONTH=3
TZNAME:CEST
TZOFFSETFROM:+0100
TZOFFSETTO:+0200
END:DAYLIGHT
END:VTIMEZONE
BEGIN:VEVENT
DESCRIPTION:Con motivo de la celebración del XV Festival del Titeres de C
 órdoba Tiereveo 2021 hemos preparado una fantastica exposición de titere
 s y marionetas en TEATRO AVANTI. Podeis asistir a la misma desde el vierne
 s día 9 a las 18:00 horas hasta el domingo a las 12:00 horas. \nEl Sábad
 o día 10 a las 12:00 del mediodía la compañía Xarop Teatre de Castell
 ón nos propone una visita guiada para descubrir el mágico mundo del Tít
 ere.\nPara asistir a la Visita guiada llámanos en nuestro horario habitua
 l para concertar cita al 957 49 11 66.\n\nHorario Teatro Avanti\nLunes a J
 ueves: 17:00 a 21:00 horas.\nViernes: 10:00 a 14:00 y 17:00 21:00 horas.\n
 Sábado y domingo: 10:30 a 14:00 y 17:00 a 21:00 horas.\nEvent link: https
 ://teatroavanti.spaces.nexudus.com/en/events/view/1414908801/exposicion-de
 -titeres---entrada-libre-\n
DTEND;TZID=Europe/Paris:20210411T120000
DTSTAMP:20260422T024235Z
DTSTART;TZID=Europe/Paris:20210409T180000
LOCATION:Teatro Avanti
SEQUENCE:0
SUMMARY:EXPOSICION DE TITERES - Entrada Libre.
UID:a9f9f8db-90ca-439c-944a-4d5f7f8e31fc
END:VEVENT
END:VCALENDAR
