BEGIN:VCALENDAR
PRODID:Nexudus
VERSION:2.0
BEGIN:VTIMEZONE
TZID:Europe/Paris
X-LIC-LOCATION:Europe/Paris
BEGIN:STANDARD
DTSTART:20241027T030000
RRULE:FREQ=YEARLY;BYDAY=-1SU;BYMONTH=10
TZNAME:CET
TZOFFSETFROM:+0200
TZOFFSETTO:+0100
END:STANDARD
BEGIN:DAYLIGHT
DTSTART:20250330T020000
RRULE:FREQ=YEARLY;BYDAY=-1SU;BYMONTH=3
TZNAME:CEST
TZOFFSETFROM:+0100
TZOFFSETTO:+0200
END:DAYLIGHT
END:VTIMEZONE
BEGIN:VEVENT
DESCRIPTION:Expedición Magallanes\, es un espectáculo de Narración Oral 
 que acerca al público infantil y juvenil a la odisea vivida por Fernando 
 de Magallanes y Juan Sebastián Elcano\, que se convirtió en la primera v
 uelta en barco alrededor del mundo.\nEvent link: https://teatroavanti.spac
 es.nexudus.com/en/events/view/1415108774/expedicion-magallanes---barataria
 -teatro---domingo-19-febrero--12-00-h--público-familiar\n
DTEND;TZID=Europe/Paris:20230219T130000
DTSTAMP:20260421T104939Z
DTSTART;TZID=Europe/Paris:20230219T120000
LOCATION:Teatro Avanti
SEQUENCE:0
SUMMARY:EXPEDICION MAGALLANES - Barataria Teatro - Domingo 19 Febrero (12:0
 0 h) Público Familiar
UID:2ec49a95-70d6-421b-91c5-b9ebb6f919ed
END:VEVENT
END:VCALENDAR
