BEGIN:VCALENDAR
PRODID:Nexudus
VERSION:2.0
BEGIN:VTIMEZONE
TZID:Europe/Paris
X-LIC-LOCATION:Europe/Paris
BEGIN:STANDARD
DTSTART:20241027T030000
RRULE:FREQ=YEARLY;BYDAY=-1SU;BYMONTH=10
TZNAME:CET
TZOFFSETFROM:+0200
TZOFFSETTO:+0100
END:STANDARD
BEGIN:DAYLIGHT
DTSTART:20250330T020000
RRULE:FREQ=YEARLY;BYDAY=-1SU;BYMONTH=3
TZNAME:CEST
TZOFFSETFROM:+0100
TZOFFSETTO:+0200
END:DAYLIGHT
END:VTIMEZONE
BEGIN:VEVENT
DESCRIPTION:Tres hermanos\, junto a la mujer de uno ellos\, se reúnen para
  cumplir el último deseo de su madre:\ndescansar en paz en todos aquellos
  lugares donde vivió y pudo sentirse\, sobre todo\, libre durante su\nexi
 lio. Inician así un largo viaje por Europa que\, como todo viaje\, no dej
 ará de ser un trayecto de ida\nal interior de la propia familia.\nEvent l
 ink: https://teatroavanti.spaces.nexudus.com/en/events/view/1414864376/eur
 opa----cía---zerocontres-teatro--córdoba----sábado-23-enero--16-30-h--\
 n
DTEND;TZID=Europe/Paris:20210123T190000
DTSTAMP:20260422T041555Z
DTSTART;TZID=Europe/Paris:20210123T163000
LOCATION:Teatro Avanti
SEQUENCE:0
SUMMARY:EUROPA .  Cía.: ZeroConTres Teatro (Córdoba) - Sábado 23 Enero (
 16:30 h )
UID:1a527f96-2e3b-44b2-a818-8a742dbfb7b9
END:VEVENT
END:VCALENDAR
